BEGIN:VCALENDAR
VERSION:2.0
PRODID:-//Plone.org//NONSGML plone.app.event//EN
X-WR-TIMEZONE:US/Central
BEGIN:VEVENT
SUMMARY:CLOSED: Christmas Eve
DTSTART;VALUE=DATE:20241224
DTEND;VALUE=DATE:20241225
DTSTAMP:20260421T215655Z
UID:42555ae96ff24606b6396d4362998262@saas_stack_varnish:6080
CREATED:20241119T164039Z
LAST-MODIFIED:20241119T164122Z
URL:https://lebanon-laclede.ploud.net/calendar-news/events/closed-christma
 s-eve
END:VEVENT
END:VCALENDAR
