BEGIN:VCALENDAR
VERSION:2.0
PRODID:-//Plone.org//NONSGML plone.app.event//EN
X-WR-TIMEZONE:US/Central
BEGIN:VEVENT
SUMMARY:Closed for Veterans day
DTSTART;VALUE=DATE:20231110
DTEND;VALUE=DATE:20231111
DTSTAMP:20260421T124254Z
UID:f7a0468ddc5e49fc9dd4647f458e19cb@saas_stack_varnish:6080
CREATED:20231019T024645Z
LAST-MODIFIED:20231019T024720Z
URL:https://lebanon-laclede.ploud.net/calendar-news/events/closed-for-vete
 rans-day
END:VEVENT
END:VCALENDAR
