BEGIN:VCALENDAR
VERSION:2.0
PRODID:-//Plone.org//NONSGML plone.app.event//EN
X-WR-TIMEZONE:US/Central
BEGIN:VEVENT
SUMMARY:CLOSED: New Year Eve
DTSTART;VALUE=DATE:20241231
DTEND;VALUE=DATE:20250101
DTSTAMP:20260421T215736Z
UID:cca3816ab0ca4d73b45e2d1cea5417d0@saas_stack_varnish:6080
CREATED:20241119T164223Z
LAST-MODIFIED:20241119T164242Z
URL:https://lebanon-laclede.ploud.net/calendar-news/events/closed-new-year
 -eve
END:VEVENT
END:VCALENDAR
