BEGIN:VCALENDAR
VERSION:2.0
PRODID:-//Plone.org//NONSGML plone.app.event//EN
X-WR-TIMEZONE:US/Central
BEGIN:VEVENT
SUMMARY:Dickerson Park Zoo
DTSTART;TZID=US/Central:20240625T100000
DTEND;TZID=US/Central:20240625T110000
DTSTAMP:20260421T202649Z
UID:505c9c93d7d74ddaa74e998fcd44ddfb@saas_stack_varnish:6080
CREATED:20240529T220712Z
LAST-MODIFIED:20240529T220719Z
URL:https://lebanon-laclede.ploud.net/calendar-news/events/dickerson-park-
 zoo-1
END:VEVENT
BEGIN:VTIMEZONE
TZID:US/Central
X-LIC-LOCATION:US/Central
BEGIN:DAYLIGHT
DTSTART:20240310T030000
TZNAME:CDT
TZOFFSETFROM:-0600
TZOFFSETTO:-0500
END:DAYLIGHT
END:VTIMEZONE
END:VCALENDAR
