BEGIN:VCALENDAR
VERSION:2.0
PRODID:-//Plone.org//NONSGML plone.app.event//EN
X-WR-TIMEZONE:US/Central
BEGIN:VEVENT
SUMMARY:English Garden Tea Party
DTSTART;TZID=US/Central:20240504T130000
DTEND;TZID=US/Central:20240504T144500
DTSTAMP:20260421T191128Z
UID:f022f66228554a349f733b503854ab2f@saas_stack_varnish:6080
CREATED:20240423T193700Z
LAST-MODIFIED:20240423T193709Z
URL:https://lebanon-laclede.ploud.net/calendar-news/events/english-garden-
 tea-party
END:VEVENT
BEGIN:VTIMEZONE
TZID:US/Central
X-LIC-LOCATION:US/Central
BEGIN:DAYLIGHT
DTSTART:20240310T030000
TZNAME:CDT
TZOFFSETFROM:-0600
TZOFFSETTO:-0500
END:DAYLIGHT
END:VTIMEZONE
END:VCALENDAR
