BEGIN:VCALENDAR
VERSION:2.0
PRODID:-//Plone.org//NONSGML plone.app.event//EN
X-WR-TIMEZONE:US/Central
BEGIN:VEVENT
SUMMARY:Fall Open House: Kinderhook Treasures Gift Shop
DTSTART;TZID=US/Central:20241005T100000
DTEND;TZID=US/Central:20241005T160000
DTSTAMP:20260422T010809Z
UID:c5497181f03e4c48810a1f7b5fe34f14@saas_stack_varnish:6080
CREATED:20240922T013250Z
LAST-MODIFIED:20240922T013308Z
URL:https://lebanon-laclede.ploud.net/calendar-news/events/fall-open-house
 -kinderhook-treasures-gift-shop
END:VEVENT
BEGIN:VTIMEZONE
TZID:US/Central
X-LIC-LOCATION:US/Central
BEGIN:DAYLIGHT
DTSTART:20240310T030000
TZNAME:CDT
TZOFFSETFROM:-0600
TZOFFSETTO:-0500
END:DAYLIGHT
END:VTIMEZONE
END:VCALENDAR
