BEGIN:VCALENDAR
VERSION:2.0
PRODID:-//Plone.org//NONSGML plone.app.event//EN
X-WR-TIMEZONE:US/Central
BEGIN:VEVENT
SUMMARY:Festival of Trees Grand Finale
DTSTART;TZID=US/Central:20251218T173000
DTEND;TZID=US/Central:20251218T183000
DTSTAMP:20260419T145347Z
UID:2a0d747ed27e46188056e88fb0de638e@saas_stack_varnish:6080
CREATED:20251126T173821Z
LAST-MODIFIED:20251126T173828Z
URL:https://lebanon-laclede.ploud.net/calendar-news/events/festival-of-tre
 es-grand-finale-1
END:VEVENT
BEGIN:VTIMEZONE
TZID:US/Central
X-LIC-LOCATION:US/Central
BEGIN:STANDARD
DTSTART:20251102T010000
TZNAME:CST
TZOFFSETFROM:-0500
TZOFFSETTO:-0600
END:STANDARD
END:VTIMEZONE
END:VCALENDAR
