BEGIN:VCALENDAR
VERSION:2.0
PRODID:-//Plone.org//NONSGML plone.app.event//EN
X-WR-TIMEZONE:US/Central
BEGIN:VEVENT
SUMMARY:Festival of Trees set up begins
DTSTART;TZID=US/Central:20231113T080000
DTEND;TZID=US/Central:20231113T200000
DTSTAMP:20260421T125309Z
UID:48c15a69781b4148bd6861ef79369a4e@saas_stack_varnish:6080
CREATED:20231109T171441Z
LAST-MODIFIED:20231109T171637Z
URL:https://lebanon-laclede.ploud.net/calendar-news/events/festival-of-tre
 es-set-up
END:VEVENT
BEGIN:VTIMEZONE
TZID:US/Central
X-LIC-LOCATION:US/Central
BEGIN:STANDARD
DTSTART:20231105T010000
TZNAME:CST
TZOFFSETFROM:-0500
TZOFFSETTO:-0600
END:STANDARD
END:VTIMEZONE
END:VCALENDAR
