BEGIN:VCALENDAR
VERSION:2.0
PRODID:-//Plone.org//NONSGML plone.app.event//EN
X-WR-TIMEZONE:US/Central
BEGIN:VEVENT
SUMMARY:FREE concert with the Springfield Symphony Orchestra Brass Quintet
DTSTART;TZID=US/Central:20251014T180000
DTEND;TZID=US/Central:20251014T190000
DTSTAMP:20260421T111635Z
UID:dc58ee55fcbf47febc10a126855fa062@saas_stack_varnish:6080
CREATED:20250916T181431Z
LAST-MODIFIED:20250916T181438Z
URL:https://lebanon-laclede.ploud.net/calendar-news/events/free-concert-wi
 th-the-springfield-symphony-orchestra-brass-quintet
END:VEVENT
BEGIN:VTIMEZONE
TZID:US/Central
X-LIC-LOCATION:US/Central
BEGIN:DAYLIGHT
DTSTART:20250309T030000
TZNAME:CDT
TZOFFSETFROM:-0600
TZOFFSETTO:-0500
END:DAYLIGHT
END:VTIMEZONE
END:VCALENDAR
