BEGIN:VCALENDAR
VERSION:2.0
PRODID:-//Plone.org//NONSGML plone.app.event//EN
X-WR-TIMEZONE:US/Central
BEGIN:VEVENT
SUMMARY:Friends 2nd Chance Book Sale
DTSTART;TZID=US/Central:20241123T120000
DTEND;TZID=US/Central:20241124T160000
DTSTAMP:20260421T233345Z
UID:b3c90dbf43204128b067c10f3cb82f3d@saas_stack_varnish:6080
CREATED:20241105T192545Z
LAST-MODIFIED:20241105T192601Z
URL:https://lebanon-laclede.ploud.net/calendar-news/events/friends-2nd-cha
 nce-book-sale-1
END:VEVENT
BEGIN:VTIMEZONE
TZID:US/Central
X-LIC-LOCATION:US/Central
BEGIN:STANDARD
DTSTART:20241103T010000
TZNAME:CST
TZOFFSETFROM:-0500
TZOFFSETTO:-0600
END:STANDARD
END:VTIMEZONE
END:VCALENDAR
