BEGIN:VCALENDAR
VERSION:2.0
PRODID:-//Plone.org//NONSGML plone.app.event//EN
X-WR-TIMEZONE:US/Central
BEGIN:VEVENT
SUMMARY:Friends 2nd Chance Book Sale
DTSTART;TZID=US/Central:20251122T120000
DTEND;TZID=US/Central:20251122T160000
DTSTAMP:20260421T095126Z
UID:fcd50043f51643f3ad703f33faeb44ab@saas_stack_varnish:6080
CREATED:20251021T144649Z
LAST-MODIFIED:20251021T144706Z
URL:https://lebanon-laclede.ploud.net/calendar-news/events/friends-2nd-cha
 nce-book-sale-2
END:VEVENT
BEGIN:VTIMEZONE
TZID:US/Central
X-LIC-LOCATION:US/Central
BEGIN:STANDARD
DTSTART:20251102T010000
TZNAME:CST
TZOFFSETFROM:-0500
TZOFFSETTO:-0600
END:STANDARD
END:VTIMEZONE
END:VCALENDAR
