BEGIN:VCALENDAR
VERSION:2.0
PRODID:-//Plone.org//NONSGML plone.app.event//EN
X-WR-TIMEZONE:US/Central
BEGIN:VEVENT
SUMMARY:Friends 2nd Chance Book Sale
DTSTART;TZID=US/Central:20231118T120000
DTEND;TZID=US/Central:20231118T160000
DTSTAMP:20260421T142729Z
UID:43cb537125ca4b588a3a30e1d0388c88@saas_stack_varnish:6080
CREATED:20231017T170415Z
LAST-MODIFIED:20231017T170431Z
LOCATION:Back of Lebanon-Laclede County Library
URL:https://lebanon-laclede.ploud.net/calendar-news/events/friends-2nd-cha
 nce-book-sale
END:VEVENT
BEGIN:VTIMEZONE
TZID:US/Central
X-LIC-LOCATION:US/Central
BEGIN:STANDARD
DTSTART:20231105T010000
TZNAME:CST
TZOFFSETFROM:-0500
TZOFFSETTO:-0600
END:STANDARD
END:VTIMEZONE
END:VCALENDAR
