BEGIN:VCALENDAR
VERSION:2.0
PRODID:-//Plone.org//NONSGML plone.app.event//EN
X-WR-TIMEZONE:US/Central
BEGIN:VEVENT
SUMMARY:Friends Fall Book Sale
DTSTART;TZID=US/Central:20231007T090000
DTEND;TZID=US/Central:20231007T153000
DTSTAMP:20260421T125216Z
UID:3c8388345c5b44f4b93e811fefc2f026@saas_stack_varnish:6080
CREATED:20230815T213828Z
LAST-MODIFIED:20230815T213834Z
LOCATION:Lebanon-Laclede County library- back of the library building
URL:https://lebanon-laclede.ploud.net/calendar-news/events/friends-fall-bo
 ok-sale-1
END:VEVENT
BEGIN:VTIMEZONE
TZID:US/Central
X-LIC-LOCATION:US/Central
BEGIN:DAYLIGHT
DTSTART:20230312T030000
TZNAME:CDT
TZOFFSETFROM:-0600
TZOFFSETTO:-0500
END:DAYLIGHT
END:VTIMEZONE
END:VCALENDAR
