BEGIN:VCALENDAR
VERSION:2.0
PRODID:-//Plone.org//NONSGML plone.app.event//EN
X-WR-TIMEZONE:US/Central
BEGIN:VEVENT
SUMMARY:Friends Fall Book Sale
DTSTART;TZID=US/Central:20241005T100000
DTEND;TZID=US/Central:20241005T153000
DTSTAMP:20260422T011140Z
UID:313907ee38be4ad5874c83fdf0ecd5f8@saas_stack_varnish:6080
CREATED:20240827T153535Z
LAST-MODIFIED:20240827T153542Z
LOCATION:Back of Lebanon-Laclede County Library
URL:https://lebanon-laclede.ploud.net/calendar-news/events/friends-fall-bo
 ok-sale-3
END:VEVENT
BEGIN:VTIMEZONE
TZID:US/Central
X-LIC-LOCATION:US/Central
BEGIN:DAYLIGHT
DTSTART:20240310T030000
TZNAME:CDT
TZOFFSETFROM:-0600
TZOFFSETTO:-0500
END:DAYLIGHT
END:VTIMEZONE
END:VCALENDAR
