BEGIN:VCALENDAR
VERSION:2.0
PRODID:-//Plone.org//NONSGML plone.app.event//EN
X-WR-TIMEZONE:US/Central
BEGIN:VEVENT
SUMMARY:Friends Fall Book Sale
DTSTART;TZID=US/Central:20251003T100000
DTEND;TZID=US/Central:20251003T150000
DTSTAMP:20260421T125201Z
UID:456306eb294e44649fabdb91ba3182bc@saas_stack_varnish:6080
RRULE:FREQ=WEEKLY;COUNT=7
EXDATE;TZID=US/Central:20251010T000000,20251017T000000,20251024T000000,202
 51031T000000,20251107T000000,20251114T000000
CREATED:20250812T155653Z
LAST-MODIFIED:20250812T160048Z
URL:https://lebanon-laclede.ploud.net/calendar-news/events/friends-fall-bo
 ok-sale-4
END:VEVENT
BEGIN:VTIMEZONE
TZID:US/Central
X-LIC-LOCATION:US/Central
BEGIN:DAYLIGHT
DTSTART:20250309T030000
TZNAME:CDT
TZOFFSETFROM:-0600
TZOFFSETTO:-0500
END:DAYLIGHT
END:VTIMEZONE
END:VCALENDAR
