BEGIN:VCALENDAR
VERSION:2.0
PRODID:-//Plone.org//NONSGML plone.app.event//EN
X-WR-TIMEZONE:US/Central
BEGIN:VEVENT
SUMMARY:Friends Fall (Early Bird) Book Sale
DTSTART;TZID=US/Central:20241003T160000
DTEND;TZID=US/Central:20241003T193000
DTSTAMP:20260421T233321Z
UID:d9e143959b944dc2a50ec8a418b6738e@saas_stack_varnish:6080
CREATED:20240827T152613Z
LAST-MODIFIED:20240827T152629Z
LOCATION:Back of Lebanon-Laclede County Library
URL:https://lebanon-laclede.ploud.net/calendar-news/events/friends-fall-ea
 rly-bird-book-sale-1
END:VEVENT
BEGIN:VTIMEZONE
TZID:US/Central
X-LIC-LOCATION:US/Central
BEGIN:DAYLIGHT
DTSTART:20240310T030000
TZNAME:CDT
TZOFFSETFROM:-0600
TZOFFSETTO:-0500
END:DAYLIGHT
END:VTIMEZONE
END:VCALENDAR
