BEGIN:VCALENDAR
VERSION:2.0
PRODID:-//Plone.org//NONSGML plone.app.event//EN
X-WR-TIMEZONE:US/Central
BEGIN:VEVENT
SUMMARY:Friends Fall (Early Bird) Book Sale
DTSTART;TZID=US/Central:20251002T160000
DTEND;TZID=US/Central:20251002T193000
DTSTAMP:20260421T125513Z
UID:1623d02c0e4a4a0f81ddc2ec19ef09c6@saas_stack_varnish:6080
CREATED:20250812T155445Z
LAST-MODIFIED:20250812T155453Z
URL:https://lebanon-laclede.ploud.net/calendar-news/events/friends-fall-ea
 rly-bird-book-sale-2
END:VEVENT
BEGIN:VTIMEZONE
TZID:US/Central
X-LIC-LOCATION:US/Central
BEGIN:DAYLIGHT
DTSTART:20250309T030000
TZNAME:CDT
TZOFFSETFROM:-0600
TZOFFSETTO:-0500
END:DAYLIGHT
END:VTIMEZONE
END:VCALENDAR
