BEGIN:VCALENDAR
VERSION:2.0
PRODID:-//Plone.org//NONSGML plone.app.event//EN
X-WR-TIMEZONE:US/Central
BEGIN:VEVENT
SUMMARY:Friends Fall (Early Bird) Book Sale
DTSTART;TZID=US/Central:20231005T160000
DTEND;TZID=US/Central:20231005T193000
DTSTAMP:20260421T111625Z
UID:a547e3f7b694449cb1a99458c87738a5@saas_stack_varnish:6080
CONTACT:(417)532-2148
CREATED:20230815T213510Z
LAST-MODIFIED:20230815T213516Z
LOCATION:Lebanon-Laclede County library- back of the library building
URL:https://lebanon-laclede.ploud.net/calendar-news/events/friends-fall-ea
 rly-bird-book-sale
END:VEVENT
BEGIN:VTIMEZONE
TZID:US/Central
X-LIC-LOCATION:US/Central
BEGIN:DAYLIGHT
DTSTART:20230312T030000
TZNAME:CDT
TZOFFSETFROM:-0600
TZOFFSETTO:-0500
END:DAYLIGHT
END:VTIMEZONE
END:VCALENDAR
