BEGIN:VCALENDAR
VERSION:2.0
PRODID:-//Plone.org//NONSGML plone.app.event//EN
X-WR-TIMEZONE:US/Central
BEGIN:VEVENT
SUMMARY:Friends of the Library Meeting
DTSTART;TZID=US/Central:20230918T171500
DTEND;TZID=US/Central:20230918T181500
DTSTAMP:20260421T111649Z
UID:c76848a4fa9e49dab6be9a61b7bb251b@saas_stack_varnish:6080
CREATED:20230918T183731Z
LAST-MODIFIED:20230918T183740Z
LOCATION:Lebanon-Laclede County Library
URL:https://lebanon-laclede.ploud.net/calendar-news/events/friends-of-the-
 library-meeting-1
END:VEVENT
BEGIN:VTIMEZONE
TZID:US/Central
X-LIC-LOCATION:US/Central
BEGIN:DAYLIGHT
DTSTART:20230312T030000
TZNAME:CDT
TZOFFSETFROM:-0600
TZOFFSETTO:-0500
END:DAYLIGHT
END:VTIMEZONE
END:VCALENDAR
