BEGIN:VCALENDAR
VERSION:2.0
PRODID:-//Plone.org//NONSGML plone.app.event//EN
X-WR-TIMEZONE:US/Central
BEGIN:VEVENT
SUMMARY:Funeral Traditions in the United States
DTSTART;TZID=US/Central:20231010T180000
DTEND;TZID=US/Central:20231010T190000
DTSTAMP:20260421T125642Z
UID:f8937e79209a4002b61f729f1ed33ba6@saas_stack_varnish:6080
CREATED:20230925T210350Z
LAST-MODIFIED:20230925T210409Z
LOCATION:Lebanon-Laclede County library
URL:https://lebanon-laclede.ploud.net/calendar-news/events/funeral-traditi
 ons-in-the-united-states
END:VEVENT
BEGIN:VTIMEZONE
TZID:US/Central
X-LIC-LOCATION:US/Central
BEGIN:DAYLIGHT
DTSTART:20230312T030000
TZNAME:CDT
TZOFFSETFROM:-0600
TZOFFSETTO:-0500
END:DAYLIGHT
END:VTIMEZONE
END:VCALENDAR
