BEGIN:VCALENDAR
VERSION:2.0
PRODID:-//Plone.org//NONSGML plone.app.event//EN
X-WR-TIMEZONE:US/Central
BEGIN:VEVENT
SUMMARY:Governor Parson Book Signing
DTSTART;TZID=US/Central:20240328T140000
DTEND;TZID=US/Central:20240328T150000
DTSTAMP:20260421T171701Z
UID:12917942228d428ab50b0c0666324c9a@saas_stack_varnish:6080
CREATED:20240325T203857Z
LAST-MODIFIED:20240325T203909Z
LOCATION:Lebanon-Laclede County library in the Dan True Room
URL:https://lebanon-laclede.ploud.net/calendar-news/events/governor-parson
 -book-signing
END:VEVENT
BEGIN:VTIMEZONE
TZID:US/Central
X-LIC-LOCATION:US/Central
BEGIN:DAYLIGHT
DTSTART:20240310T030000
TZNAME:CDT
TZOFFSETFROM:-0600
TZOFFSETTO:-0500
END:DAYLIGHT
END:VTIMEZONE
END:VCALENDAR
