BEGIN:VCALENDAR
VERSION:2.0
PRODID:-//Plone.org//NONSGML plone.app.event//EN
X-WR-TIMEZONE:US/Central
BEGIN:VEVENT
SUMMARY:Hardback Hooligans Book Club Meeting
DTSTART;TZID=US/Central:20240928T130000
DTEND;TZID=US/Central:20240928T150000
DTSTAMP:20260421T232935Z
UID:4ae83be0ff4c4be992fe43caff123588@saas_stack_varnish:6080
CREATED:20240922T011940Z
LAST-MODIFIED:20240922T011958Z
URL:https://lebanon-laclede.ploud.net/calendar-news/events/hardback-hoolig
 ans-book-club-meeting-2
END:VEVENT
BEGIN:VTIMEZONE
TZID:US/Central
X-LIC-LOCATION:US/Central
BEGIN:DAYLIGHT
DTSTART:20240310T030000
TZNAME:CDT
TZOFFSETFROM:-0600
TZOFFSETTO:-0500
END:DAYLIGHT
END:VTIMEZONE
END:VCALENDAR
