BEGIN:VCALENDAR
VERSION:2.0
PRODID:-//Plone.org//NONSGML plone.app.event//EN
X-WR-TIMEZONE:US/Central
BEGIN:VEVENT
SUMMARY:Hardback Hooligans Book Club Meeting
DTSTART;TZID=US/Central:20241123T140000
DTEND;TZID=US/Central:20241123T150000
DTSTAMP:20260421T232954Z
UID:be410176940646509ee79a225be85f6c@saas_stack_varnish:6080
CREATED:20241105T192857Z
LAST-MODIFIED:20241105T192928Z
URL:https://lebanon-laclede.ploud.net/calendar-news/events/hardback-hoolig
 ans-book-club-meeting-3
END:VEVENT
BEGIN:VTIMEZONE
TZID:US/Central
X-LIC-LOCATION:US/Central
BEGIN:STANDARD
DTSTART:20241103T010000
TZNAME:CST
TZOFFSETFROM:-0500
TZOFFSETTO:-0600
END:STANDARD
END:VTIMEZONE
END:VCALENDAR
