BEGIN:VCALENDAR
VERSION:2.0
PRODID:-//Plone.org//NONSGML plone.app.event//EN
X-WR-TIMEZONE:US/Central
BEGIN:VEVENT
SUMMARY:Hardback Hooligans Book Club Meeting
DTSTART;TZID=US/Central:20250419T130000
DTSTAMP:20260421T190950Z
UID:b6a021bdaa8841b4bd328313916ed86b@saas_stack_varnish:6080
CREATED:20250408T204122Z
LAST-MODIFIED:20250408T204128Z
URL:https://lebanon-laclede.ploud.net/calendar-news/events/hardback-hoolig
 ans-book-club-meeting-8
END:VEVENT
BEGIN:VTIMEZONE
TZID:US/Central
X-LIC-LOCATION:US/Central
BEGIN:DAYLIGHT
DTSTART:20250309T030000
TZNAME:CDT
TZOFFSETFROM:-0600
TZOFFSETTO:-0500
END:DAYLIGHT
END:VTIMEZONE
END:VCALENDAR
