BEGIN:VCALENDAR
VERSION:2.0
PRODID:-//Plone.org//NONSGML plone.app.event//EN
X-WR-TIMEZONE:US/Central
BEGIN:VEVENT
SUMMARY:Hardback Hooligans Book Club Meeting
DTSTART;TZID=US/Central:20250531T130000
DTEND;TZID=US/Central:20250531T150000
DTSTAMP:20260421T190041Z
UID:b364f7d1ad3e4cd78e61fb3f8ae9dfd1@saas_stack_varnish:6080
CREATED:20250501T024426Z
LAST-MODIFIED:20250501T024433Z
URL:https://lebanon-laclede.ploud.net/calendar-news/events/hardback-hoolig
 ans-book-club-meeting-9
END:VEVENT
BEGIN:VTIMEZONE
TZID:US/Central
X-LIC-LOCATION:US/Central
BEGIN:DAYLIGHT
DTSTART:20250309T030000
TZNAME:CDT
TZOFFSETFROM:-0600
TZOFFSETTO:-0500
END:DAYLIGHT
END:VTIMEZONE
END:VCALENDAR
