BEGIN:VCALENDAR
VERSION:2.0
PRODID:-//Plone.org//NONSGML plone.app.event//EN
X-WR-TIMEZONE:US/Central
BEGIN:VEVENT
SUMMARY:Hardback Hooligans Book Club Meeting
DTSTART;TZID=US/Central:20240330T130000
DTEND;TZID=US/Central:20240330T150000
DTSTAMP:20260421T172226Z
UID:a4691ed9f0e5414c970c42009376e095@saas_stack_varnish:6080
CREATED:20240226T030711Z
LAST-MODIFIED:20240226T030727Z
URL:https://lebanon-laclede.ploud.net/calendar-news/events/hardback-hoolig
 ans-book-club-meeting
END:VEVENT
BEGIN:VTIMEZONE
TZID:US/Central
X-LIC-LOCATION:US/Central
BEGIN:DAYLIGHT
DTSTART:20240310T030000
TZNAME:CDT
TZOFFSETFROM:-0600
TZOFFSETTO:-0500
END:DAYLIGHT
END:VTIMEZONE
END:VCALENDAR
