BEGIN:VCALENDAR
VERSION:2.0
PRODID:-//Plone.org//NONSGML plone.app.event//EN
X-WR-TIMEZONE:US/Central
BEGIN:VEVENT
SUMMARY:Hardback Hooligans: Book Club
DTSTART;TZID=US/Central:20241026T130000
DTEND;TZID=US/Central:20241026T150000
DTSTAMP:20260421T234346Z
UID:2c555f740d4c4da69c78d3fdd6e48819@saas_stack_varnish:6080
CREATED:20241014T150142Z
LAST-MODIFIED:20241014T150150Z
URL:https://lebanon-laclede.ploud.net/calendar-news/events/hardback-hoolig
 ans-book-club
END:VEVENT
BEGIN:VTIMEZONE
TZID:US/Central
X-LIC-LOCATION:US/Central
BEGIN:DAYLIGHT
DTSTART:20240310T030000
TZNAME:CDT
TZOFFSETFROM:-0600
TZOFFSETTO:-0500
END:DAYLIGHT
END:VTIMEZONE
END:VCALENDAR
