BEGIN:VCALENDAR
VERSION:2.0
PRODID:-//Plone.org//NONSGML plone.app.event//EN
X-WR-TIMEZONE:US/Central
BEGIN:VEVENT
SUMMARY:Harry Potter Tea Party
DTSTART;TZID=US/Central:20250201T130000
DTEND;TZID=US/Central:20250201T150000
DTSTAMP:20260421T215731Z
UID:b0377ba9ac05478a9f647468dfc8e42c@saas_stack_varnish:6080
CREATED:20241105T193909Z
LAST-MODIFIED:20241105T193927Z
URL:https://lebanon-laclede.ploud.net/calendar-news/events/harry-potter-te
 a-party
END:VEVENT
BEGIN:VTIMEZONE
TZID:US/Central
X-LIC-LOCATION:US/Central
BEGIN:STANDARD
DTSTART:20241103T010000
TZNAME:CST
TZOFFSETFROM:-0500
TZOFFSETTO:-0600
END:STANDARD
END:VTIMEZONE
END:VCALENDAR
