BEGIN:VCALENDAR
VERSION:2.0
PRODID:-//Plone.org//NONSGML plone.app.event//EN
X-WR-TIMEZONE:US/Central
BEGIN:VEVENT
SUMMARY:Holiday Stuffed Animal Sleepover
DTSTART;TZID=US/Central:20241213T140000
DTEND;TZID=US/Central:20241214T160000
DTSTAMP:20260421T223842Z
UID:b1d575e019c04b74aeb6f7c7a3ecaaf5@saas_stack_varnish:6080
CREATED:20241112T210022Z
LAST-MODIFIED:20241112T210054Z
URL:https://lebanon-laclede.ploud.net/calendar-news/events/holiday-stuffed
 -animal-sleepover
END:VEVENT
BEGIN:VTIMEZONE
TZID:US/Central
X-LIC-LOCATION:US/Central
BEGIN:STANDARD
DTSTART:20241103T010000
TZNAME:CST
TZOFFSETFROM:-0500
TZOFFSETTO:-0600
END:STANDARD
END:VTIMEZONE
END:VCALENDAR
