BEGIN:VCALENDAR
VERSION:2.0
PRODID:-//Plone.org//NONSGML plone.app.event//EN
X-WR-TIMEZONE:US/Central
BEGIN:VEVENT
SUMMARY:Kinderhook Christmas Tea Party
DTSTART;TZID=US/Central:20241207T130000
DTEND;TZID=US/Central:20241207T150000
DTSTAMP:20260421T232929Z
UID:038065b1dcc84d5da00cd961366a37d2@saas_stack_varnish:6080
CREATED:20241119T150342Z
LAST-MODIFIED:20241119T150358Z
URL:https://lebanon-laclede.ploud.net/calendar-news/events/kinderhook-chri
 stmas-tea-party-1
END:VEVENT
BEGIN:VTIMEZONE
TZID:US/Central
X-LIC-LOCATION:US/Central
BEGIN:STANDARD
DTSTART:20241103T010000
TZNAME:CST
TZOFFSETFROM:-0500
TZOFFSETTO:-0600
END:STANDARD
END:VTIMEZONE
END:VCALENDAR
