BEGIN:VCALENDAR
VERSION:2.0
PRODID:-//Plone.org//NONSGML plone.app.event//EN
X-WR-TIMEZONE:US/Central
BEGIN:VEVENT
SUMMARY:Kinderhook Treasures Christmas Open House
DTSTART;TZID=US/Central:20231209T100000
DTEND;TZID=US/Central:20231209T160000
DTSTAMP:20260421T142423Z
UID:7923975d7b64433781f819551e4ac40b@saas_stack_varnish:6080
CREATED:20231109T174035Z
LAST-MODIFIED:20231109T174056Z
LOCATION:Kinderhook Treasures Gift Shop in the Library
URL:https://lebanon-laclede.ploud.net/calendar-news/events/kinderhook-trea
 sures-christmas-open-house
END:VEVENT
BEGIN:VTIMEZONE
TZID:US/Central
X-LIC-LOCATION:US/Central
BEGIN:STANDARD
DTSTART:20231105T010000
TZNAME:CST
TZOFFSETFROM:-0500
TZOFFSETTO:-0600
END:STANDARD
END:VTIMEZONE
END:VCALENDAR
