BEGIN:VCALENDAR
VERSION:2.0
PRODID:-//Plone.org//NONSGML plone.app.event//EN
X-WR-TIMEZONE:US/Central
BEGIN:VEVENT
SUMMARY:Kinderhook Treasures Spring Open House
DTSTART;TZID=US/Central:20240406T100000
DTEND;TZID=US/Central:20240406T163000
DTSTAMP:20260421T171845Z
UID:39ad7146850c4c5f8c76abdc4465026b@saas_stack_varnish:6080
CREATED:20240313T031121Z
LAST-MODIFIED:20240313T031130Z
LOCATION:Kinderhook Treasure Giftshop in the Library
URL:https://lebanon-laclede.ploud.net/calendar-news/events/kinderhook-trea
 sures-spring-open-house
END:VEVENT
BEGIN:VTIMEZONE
TZID:US/Central
X-LIC-LOCATION:US/Central
BEGIN:DAYLIGHT
DTSTART:20240310T030000
TZNAME:CDT
TZOFFSETFROM:-0600
TZOFFSETTO:-0500
END:DAYLIGHT
END:VTIMEZONE
END:VCALENDAR
