BEGIN:VCALENDAR
VERSION:2.0
PRODID:-//Plone.org//NONSGML plone.app.event//EN
X-WR-TIMEZONE:US/Central
BEGIN:VEVENT
SUMMARY:Knight Readers Book Club Meeting
DTSTART;TZID=US/Central:20241026T103000
DTEND;TZID=US/Central:20241026T120000
DTSTAMP:20260422T000622Z
UID:c9a7f55a6abd4bce8a2e273b616e5922@saas_stack_varnish:6080
CREATED:20241014T145759Z
LAST-MODIFIED:20241014T145812Z
URL:https://lebanon-laclede.ploud.net/calendar-news/events/knight-readers-
 book-club-meeting-3
END:VEVENT
BEGIN:VTIMEZONE
TZID:US/Central
X-LIC-LOCATION:US/Central
BEGIN:DAYLIGHT
DTSTART:20240310T030000
TZNAME:CDT
TZOFFSETFROM:-0600
TZOFFSETTO:-0500
END:DAYLIGHT
END:VTIMEZONE
END:VCALENDAR
