BEGIN:VCALENDAR
VERSION:2.0
PRODID:-//Plone.org//NONSGML plone.app.event//EN
X-WR-TIMEZONE:US/Central
BEGIN:VEVENT
SUMMARY:Knight Readers Book Club Meeting
DTSTART;TZID=US/Central:20250222T103000
DTEND;TZID=US/Central:20250222T120000
DTSTAMP:20260421T220304Z
UID:cd22923d803e467a837addb3a4da4f75@saas_stack_varnish:6080
CREATED:20250205T201809Z
LAST-MODIFIED:20250205T201816Z
URL:https://lebanon-laclede.ploud.net/calendar-news/events/knight-readers-
 book-club-meeting-5
END:VEVENT
BEGIN:VTIMEZONE
TZID:US/Central
X-LIC-LOCATION:US/Central
BEGIN:STANDARD
DTSTART:20241103T010000
TZNAME:CST
TZOFFSETFROM:-0500
TZOFFSETTO:-0600
END:STANDARD
END:VTIMEZONE
END:VCALENDAR
