BEGIN:VCALENDAR
VERSION:2.0
PRODID:-//Plone.org//NONSGML plone.app.event//EN
X-WR-TIMEZONE:US/Central
BEGIN:VEVENT
SUMMARY:Lake Regional's Dr. Ted E. Bear Clinic
DTSTART;TZID=US/Central:20250624T100000
DTEND;TZID=US/Central:20250624T110000
DTSTAMP:20260421T154729Z
UID:dd9706019931438fa60b77429f1c088d@saas_stack_varnish:6080
CREATED:20250519T210017Z
LAST-MODIFIED:20250519T210037Z
URL:https://lebanon-laclede.ploud.net/calendar-news/events/lake-regionals-
 dr-ted-e-bear-clinic
END:VEVENT
BEGIN:VTIMEZONE
TZID:US/Central
X-LIC-LOCATION:US/Central
BEGIN:DAYLIGHT
DTSTART:20250309T030000
TZNAME:CDT
TZOFFSETFROM:-0600
TZOFFSETTO:-0500
END:DAYLIGHT
END:VTIMEZONE
END:VCALENDAR
