BEGIN:VCALENDAR
VERSION:2.0
PRODID:-//Plone.org//NONSGML plone.app.event//EN
X-WR-TIMEZONE:US/Central
BEGIN:VEVENT
SUMMARY:Lebanon Bleeds Red: Community Blood Drive
DTSTART;TZID=US/Central:20240612T123000
DTEND;TZID=US/Central:20240612T180000
DTSTAMP:20260421T220305Z
UID:69e09d15f48140938ec5035c05a8a8c4@saas_stack_varnish:6080
CREATED:20240529T215034Z
LAST-MODIFIED:20240529T220150Z
URL:https://lebanon-laclede.ploud.net/calendar-news/events/lebanon-bleeds-
 red-community-blood-drive
END:VEVENT
BEGIN:VTIMEZONE
TZID:US/Central
X-LIC-LOCATION:US/Central
BEGIN:DAYLIGHT
DTSTART:20240310T030000
TZNAME:CDT
TZOFFSETFROM:-0600
TZOFFSETTO:-0500
END:DAYLIGHT
END:VTIMEZONE
END:VCALENDAR
