BEGIN:VCALENDAR
VERSION:2.0
PRODID:-//Plone.org//NONSGML plone.app.event//EN
X-WR-TIMEZONE:US/Central
BEGIN:VEVENT
SUMMARY:Lebanon Community Blood Drive
DTSTART;TZID=US/Central:20240417T123000
DTEND;TZID=US/Central:20240417T180000
DTSTAMP:20260421T191221Z
UID:1820c43f517a497b9ea84fa28e98d9e7@saas_stack_varnish:6080
CREATED:20240401T191345Z
LAST-MODIFIED:20240401T191356Z
LOCATION:Lebanon-Laclede County Library
URL:https://lebanon-laclede.ploud.net/calendar-news/events/lebanon-communi
 ty-blood-drive-1
END:VEVENT
BEGIN:VTIMEZONE
TZID:US/Central
X-LIC-LOCATION:US/Central
BEGIN:DAYLIGHT
DTSTART:20240310T030000
TZNAME:CDT
TZOFFSETFROM:-0600
TZOFFSETTO:-0500
END:DAYLIGHT
END:VTIMEZONE
END:VCALENDAR
