BEGIN:VCALENDAR
VERSION:2.0
PRODID:-//Plone.org//NONSGML plone.app.event//EN
X-WR-TIMEZONE:US/Central
BEGIN:VEVENT
SUMMARY:Lebanon Community Blood Drive
DTSTART;TZID=US/Central:20241009T123000
DTEND;TZID=US/Central:20241009T180000
DTSTAMP:20260422T010846Z
UID:765b1c817e554ec6bbdb84f3b2a0becb@saas_stack_varnish:6080
CREATED:20240922T014130Z
LAST-MODIFIED:20240922T014143Z
URL:https://lebanon-laclede.ploud.net/calendar-news/events/lebanon-communi
 ty-blood-drive-2
END:VEVENT
BEGIN:VTIMEZONE
TZID:US/Central
X-LIC-LOCATION:US/Central
BEGIN:DAYLIGHT
DTSTART:20240310T030000
TZNAME:CDT
TZOFFSETFROM:-0600
TZOFFSETTO:-0500
END:DAYLIGHT
END:VTIMEZONE
END:VCALENDAR
