BEGIN:VCALENDAR
VERSION:2.0
PRODID:-//Plone.org//NONSGML plone.app.event//EN
X-WR-TIMEZONE:US/Central
BEGIN:VEVENT
SUMMARY:Lebanon Community Blood Drive
DTSTART;TZID=US/Central:20250205T123000
DTEND;TZID=US/Central:20250205T180000
DTSTAMP:20260421T220114Z
UID:0fca8263158d413c88723cb6e121e33a@saas_stack_varnish:6080
CREATED:20250127T205027Z
LAST-MODIFIED:20250127T205724Z
URL:https://lebanon-laclede.ploud.net/calendar-news/events/lebanon-communi
 ty-blood-drive-4
END:VEVENT
BEGIN:VTIMEZONE
TZID:US/Central
X-LIC-LOCATION:US/Central
BEGIN:STANDARD
DTSTART:20241103T010000
TZNAME:CST
TZOFFSETFROM:-0500
TZOFFSETTO:-0600
END:STANDARD
END:VTIMEZONE
END:VCALENDAR
