BEGIN:VCALENDAR
VERSION:2.0
PRODID:-//Plone.org//NONSGML plone.app.event//EN
X-WR-TIMEZONE:US/Central
BEGIN:VEVENT
SUMMARY:Lebanon Community Blood Drive
DTSTART;TZID=US/Central:20250416T123000
DTEND;TZID=US/Central:20250416T180000
DTSTAMP:20260421T191128Z
UID:2e3ea0c2e0c248b699c5e047029c62e6@saas_stack_varnish:6080
CREATED:20250328T151552Z
LAST-MODIFIED:20250328T151601Z
URL:https://lebanon-laclede.ploud.net/calendar-news/events/lebanon-communi
 ty-blood-drive-5
END:VEVENT
BEGIN:VTIMEZONE
TZID:US/Central
X-LIC-LOCATION:US/Central
BEGIN:DAYLIGHT
DTSTART:20250309T030000
TZNAME:CDT
TZOFFSETFROM:-0600
TZOFFSETTO:-0500
END:DAYLIGHT
END:VTIMEZONE
END:VCALENDAR
