BEGIN:VCALENDAR
VERSION:2.0
PRODID:-//Plone.org//NONSGML plone.app.event//EN
X-WR-TIMEZONE:US/Central
BEGIN:VEVENT
SUMMARY:Lebanon Community Blood Drive
DTSTART;TZID=US/Central:20251008T123000
DTEND;TZID=US/Central:20251008T180000
DTSTAMP:20260421T125514Z
UID:e4d16388e608499ea6f485305633f5d0@saas_stack_varnish:6080
CREATED:20250916T180027Z
LAST-MODIFIED:20250916T180037Z
URL:https://lebanon-laclede.ploud.net/calendar-news/events/lebanon-communi
 ty-blood-drive-8
END:VEVENT
BEGIN:VTIMEZONE
TZID:US/Central
X-LIC-LOCATION:US/Central
BEGIN:DAYLIGHT
DTSTART:20250309T030000
TZNAME:CDT
TZOFFSETFROM:-0600
TZOFFSETTO:-0500
END:DAYLIGHT
END:VTIMEZONE
END:VCALENDAR
