BEGIN:VCALENDAR
VERSION:2.0
PRODID:-//Plone.org//NONSGML plone.app.event//EN
X-WR-TIMEZONE:US/Central
BEGIN:VEVENT
SUMMARY:Lebanon Fire Department
DTSTART;TZID=US/Central:20250715T100000
DTEND;TZID=US/Central:20250715T110000
DTSTAMP:20260421T142507Z
UID:11bdc7e72f4c4475bff09b99a9ecb3a5@saas_stack_varnish:6080
CREATED:20250507T195214Z
LAST-MODIFIED:20250507T195222Z
URL:https://lebanon-laclede.ploud.net/calendar-news/events/lebanon-fire-de
 partment-1
END:VEVENT
BEGIN:VTIMEZONE
TZID:US/Central
X-LIC-LOCATION:US/Central
BEGIN:DAYLIGHT
DTSTART:20250309T030000
TZNAME:CDT
TZOFFSETFROM:-0600
TZOFFSETTO:-0500
END:DAYLIGHT
END:VTIMEZONE
END:VCALENDAR
