BEGIN:VCALENDAR
VERSION:2.0
PRODID:-//Plone.org//NONSGML plone.app.event//EN
X-WR-TIMEZONE:US/Central
BEGIN:VEVENT
SUMMARY:Legends of Route 66\, at the Lebanon-Laclede County Library
DTSTART;TZID=US/Central:20231114T180000
DTEND;TZID=US/Central:20231114T193000
DTSTAMP:20260421T125648Z
UID:bbec399cfbf44728afadb39593771f9f@saas_stack_varnish:6080
CREATED:20231017T174145Z
LAST-MODIFIED:20231017T174157Z
LOCATION:Lebanon-Laclede County Library
URL:https://lebanon-laclede.ploud.net/calendar-news/events/legends-of-rout
 e-66-at-the-lebanon-laclede-county-library
END:VEVENT
BEGIN:VTIMEZONE
TZID:US/Central
X-LIC-LOCATION:US/Central
BEGIN:STANDARD
DTSTART:20231105T010000
TZNAME:CST
TZOFFSETFROM:-0500
TZOFFSETTO:-0600
END:STANDARD
END:VTIMEZONE
END:VCALENDAR
