BEGIN:VCALENDAR
VERSION:2.0
PRODID:-//Plone.org//NONSGML plone.app.event//EN
X-WR-TIMEZONE:US/Central
BEGIN:VEVENT
SUMMARY:Lego Club
DTSTART;TZID=US/Central:20231114T140000
DTEND;TZID=US/Central:20231114T160000
DTSTAMP:20260421T125519Z
UID:33f720ce2f6249cf901a9fae47a52c27@saas_stack_varnish:6080
CREATED:20230829T192409Z
LAST-MODIFIED:20231121T173445Z
URL:https://lebanon-laclede.ploud.net/calendar-news/events/lego-club-1/202
 3-11-14
END:VEVENT
BEGIN:VTIMEZONE
TZID:US/Central
X-LIC-LOCATION:US/Central
BEGIN:STANDARD
DTSTART:20231105T010000
TZNAME:CST
TZOFFSETFROM:-0500
TZOFFSETTO:-0600
END:STANDARD
END:VTIMEZONE
END:VCALENDAR
