BEGIN:VCALENDAR
VERSION:2.0
PRODID:-//Plone.org//NONSGML plone.app.event//EN
X-WR-TIMEZONE:US/Central
BEGIN:VEVENT
SUMMARY:Lego Club
DTSTART;TZID=US/Central:20230912T140000
DTEND;TZID=US/Central:20230912T160000
DTSTAMP:20260421T111142Z
UID:33f720ce2f6249cf901a9fae47a52c27@saas_stack_varnish:6080
RRULE:FREQ=WEEKLY;COUNT=18;BYDAY=TU
EXDATE;TZID=US/Central:20231226T000000,20240102T000000,20240109T000000
CREATED:20230829T192409Z
LAST-MODIFIED:20231121T173445Z
URL:https://lebanon-laclede.ploud.net/calendar-news/events/lego-club-1
END:VEVENT
BEGIN:VTIMEZONE
TZID:US/Central
X-LIC-LOCATION:US/Central
BEGIN:DAYLIGHT
DTSTART:20230312T030000
TZNAME:CDT
TZOFFSETFROM:-0600
TZOFFSETTO:-0500
END:DAYLIGHT
END:VTIMEZONE
END:VCALENDAR
