BEGIN:VCALENDAR
VERSION:2.0
PRODID:-//Plone.org//NONSGML plone.app.event//EN
X-WR-TIMEZONE:US/Central
BEGIN:VEVENT
SUMMARY:Lego Club
DTSTART;TZID=US/Central:20240123T140000
DTEND;TZID=US/Central:20240123T160000
DTSTAMP:20260421T160900Z
UID:c1016ee35448497bb6a3595ff8c9f486@saas_stack_varnish:6080
CREATED:20231226T170929Z
LAST-MODIFIED:20240401T193703Z
URL:https://lebanon-laclede.ploud.net/calendar-news/events/lego-club-2/202
 4-01-23
END:VEVENT
BEGIN:VTIMEZONE
TZID:US/Central
X-LIC-LOCATION:US/Central
BEGIN:STANDARD
DTSTART:20231105T010000
TZNAME:CST
TZOFFSETFROM:-0500
TZOFFSETTO:-0600
END:STANDARD
END:VTIMEZONE
END:VCALENDAR
