BEGIN:VCALENDAR
VERSION:2.0
PRODID:-//Plone.org//NONSGML plone.app.event//EN
X-WR-TIMEZONE:US/Central
BEGIN:VEVENT
SUMMARY:Lego Club
DTSTART;TZID=US/Central:20240530T140000
DTEND;TZID=US/Central:20240530T160000
DTSTAMP:20260421T185938Z
UID:6ba77be8d5fc4e4099983a8a78353ab3@saas_stack_varnish:6080
CREATED:20240430T200903Z
LAST-MODIFIED:20240430T200915Z
URL:https://lebanon-laclede.ploud.net/calendar-news/events/lego-club-3
END:VEVENT
BEGIN:VTIMEZONE
TZID:US/Central
X-LIC-LOCATION:US/Central
BEGIN:DAYLIGHT
DTSTART:20240310T030000
TZNAME:CDT
TZOFFSETFROM:-0600
TZOFFSETTO:-0500
END:DAYLIGHT
END:VTIMEZONE
END:VCALENDAR
