BEGIN:VCALENDAR
VERSION:2.0
PRODID:-//Plone.org//NONSGML plone.app.event//EN
X-WR-TIMEZONE:US/Central
BEGIN:VEVENT
SUMMARY:Lego Club
DTSTART;TZID=US/Central:20241112T140000
DTEND;TZID=US/Central:20241112T160000
DTSTAMP:20260421T233252Z
UID:a2ed4077bf3848afa26436820647a36d@saas_stack_varnish:6080
CREATED:20240820T185554Z
LAST-MODIFIED:20250428T033152Z
URL:https://lebanon-laclede.ploud.net/calendar-news/events/lego-club-5/202
 4-11-12
END:VEVENT
BEGIN:VTIMEZONE
TZID:US/Central
X-LIC-LOCATION:US/Central
BEGIN:STANDARD
DTSTART:20241103T010000
TZNAME:CST
TZOFFSETFROM:-0500
TZOFFSETTO:-0600
END:STANDARD
END:VTIMEZONE
END:VCALENDAR
