BEGIN:VCALENDAR
VERSION:2.0
PRODID:-//Plone.org//NONSGML plone.app.event//EN
X-WR-TIMEZONE:US/Central
BEGIN:VEVENT
SUMMARY:Lego Club
DTSTART;TZID=US/Central:20240910T140000
DTEND;TZID=US/Central:20240910T160000
DTSTAMP:20260421T215737Z
UID:a2ed4077bf3848afa26436820647a36d@saas_stack_varnish:6080
RRULE:FREQ=WEEKLY;UNTIL=20250802T000000;BYDAY=TU
EXDATE;TZID=US/Central:20241105T000000,20241119T000000,20241126T000000,202
 41224T000000,20241231T000000,20250107T000000,20250114T000000,20250506T0000
 00,20250513T000000,20250520T000000,20250527T000000,20250603T000000,2025061
 0T000000,20250617T000000,20250624T000000,20250701T000000,20250708T000000,2
 0250715T000000,20250722T000000,20250729T000000
CREATED:20240820T185554Z
LAST-MODIFIED:20250428T033152Z
URL:https://lebanon-laclede.ploud.net/calendar-news/events/lego-club-5
END:VEVENT
BEGIN:VTIMEZONE
TZID:US/Central
X-LIC-LOCATION:US/Central
BEGIN:DAYLIGHT
DTSTART:20240310T030000
TZNAME:CDT
TZOFFSETFROM:-0600
TZOFFSETTO:-0500
END:DAYLIGHT
END:VTIMEZONE
END:VCALENDAR
