BEGIN:VCALENDAR
VERSION:2.0
PRODID:-//Plone.org//NONSGML plone.app.event//EN
X-WR-TIMEZONE:US/Central
BEGIN:VEVENT
SUMMARY:Lego Club
DTSTART;TZID=US/Central:20250626T140000
DTEND;TZID=US/Central:20250626T160000
DTSTAMP:20260421T155225Z
UID:588a1df0d1ec47418bb5b6e8f7089728@saas_stack_varnish:6080
CREATED:20250501T024232Z
LAST-MODIFIED:20250618T233229Z
URL:https://lebanon-laclede.ploud.net/calendar-news/events/lego-club-6/202
 5-06-26
END:VEVENT
BEGIN:VTIMEZONE
TZID:US/Central
X-LIC-LOCATION:US/Central
BEGIN:DAYLIGHT
DTSTART:20250309T030000
TZNAME:CDT
TZOFFSETFROM:-0600
TZOFFSETTO:-0500
END:DAYLIGHT
END:VTIMEZONE
END:VCALENDAR
